BEGIN:VCALENDAR
VERSION:2.0
PRODID:-//Lauri Ann West Community Center - ECPv6.15.20//NONSGML v1.0//EN
CALSCALE:GREGORIAN
METHOD:PUBLISH
X-WR-CALNAME:Lauri Ann West Community Center
X-ORIGINAL-URL:https://lauriannwestcc.org
X-WR-CALDESC:Events for Lauri Ann West Community Center
REFRESH-INTERVAL;VALUE=DURATION:PT1H
X-Robots-Tag:noindex
X-PUBLISHED-TTL:PT1H
BEGIN:VTIMEZONE
TZID:UTC
BEGIN:STANDARD
TZOFFSETFROM:+0000
TZOFFSETTO:+0000
TZNAME:UTC
DTSTART:20250101T000000
END:STANDARD
END:VTIMEZONE
BEGIN:VEVENT
DTSTART;TZID=UTC:20260418T130000
DTEND;TZID=UTC:20260418T150000
DTSTAMP:20260424T101355
CREATED:20260217T201717Z
LAST-MODIFIED:20260217T201757Z
UID:10010150-1776517200-1776524400@lauriannwestcc.org
SUMMARY:Arts & Crafts with the Lauri Ann West Crew
DESCRIPTION:Once a month\, members of our A&E or programming staff will offer a 2-hour free program for school-aged students. Each month there will be a different craft or project to work on. \nThis is for school-aged children (currently in K-5th grade). Membership is not required\, but registration is! Space is limited. \nREGISTER
URL:https://lauriannwestcc.org/event/arts-crafts-with-the-lauri-ann-west-crew-3/
LOCATION:Lauri Ann West Community Center\, 1220 Powers Run Road\, Pittsburgh\, PA\, 15238\, United States
CATEGORIES:Community Event
ATTACH;FMTTYPE=image/jpeg:https://lauriannwestcc.org/wp-content/uploads/2026/01/Arts-and-Crafts-Monthly-Program.jpg
END:VEVENT
END:VCALENDAR