BEGIN:VCALENDAR
VERSION:2.0
PRODID:-//Lauri Ann West Community Center - ECPv6.15.20//NONSGML v1.0//EN
CALSCALE:GREGORIAN
METHOD:PUBLISH
X-WR-CALNAME:Lauri Ann West Community Center
X-ORIGINAL-URL:https://lauriannwestcc.org
X-WR-CALDESC:Events for Lauri Ann West Community Center
REFRESH-INTERVAL;VALUE=DURATION:PT1H
X-Robots-Tag:noindex
X-PUBLISHED-TTL:PT1H
BEGIN:VTIMEZONE
TZID:UTC
BEGIN:STANDARD
TZOFFSETFROM:+0000
TZOFFSETTO:+0000
TZNAME:UTC
DTSTART:20250101T000000
END:STANDARD
END:VTIMEZONE
BEGIN:VEVENT
DTSTART;TZID=UTC:20260419T111500
DTEND;TZID=UTC:20260419T120000
DTSTAMP:20260421T081000
CREATED:20260319T173235Z
LAST-MODIFIED:20260319T173249Z
UID:10010161-1776597300-1776600000@lauriannwestcc.org
SUMMARY:Family Group Ex - April
DESCRIPTION:Join us for a family friendly group exercise class in the Alexander Family Community Room. Class will be led by one of our experienced instructors. \nThis class will focus on getting families moving together. Children should be at least 7 years old to attend. Guardians are responsible for their children during class and anyone under the age of 13 must have a guardian with them. Registration is required but the class is free. \nREGISTER
URL:https://lauriannwestcc.org/event/family-group-ex-april/
LOCATION:Lauri Ann West Community Center\, 1220 Powers Run Road\, Pittsburgh\, PA\, 15238\, United States
CATEGORIES:Community Event
ATTACH;FMTTYPE=image/jpeg:https://lauriannwestcc.org/wp-content/uploads/2026/01/Family-Group-Ex_Website.jpg
END:VEVENT
BEGIN:VEVENT
DTSTART;TZID=UTC:20260419T140000
DTEND;TZID=UTC:20260419T160000
DTSTAMP:20260421T081000
CREATED:20260217T201253Z
LAST-MODIFIED:20260217T201301Z
UID:10010149-1776607200-1776614400@lauriannwestcc.org
SUMMARY:Goat Yoga for Teens
DESCRIPTION:Looking for something totally different (and totally unforgettable)? Teen Goat Yoga blends beginner-friendly yoga with the playful energy of adorable goats! Join LAWCC’s Yoga Instructor Zach Marmolejo and goats from Capricious Goats for an afternoon of yoga moves accompanied by some new goat friends. \nStudents will move through a relaxing\, confidence-building yoga flow designed just for teens\, improving balance\, flexibility\, and focus. At the same time\, friendly goats wander\, cuddle\, and maybe even hop into a pose or two. Expect laughter\, great photo ops\, and a stress-relieving experience that feels more like a mini retreat than a workout. \nNo yoga experience needed\, bring a water bottle\, a mat\, and a sense of humor. The first hour will be for yoga\, and the second hour will be for photo ops and cuddles. \nREGISTER
URL:https://lauriannwestcc.org/event/goat-yoga-for-teens/
LOCATION:Lauri Ann West Community Center\, 1220 Powers Run Road\, Pittsburgh\, PA\, 15238\, United States
CATEGORIES:Community Event
ATTACH;FMTTYPE=image/jpeg:https://lauriannwestcc.org/wp-content/uploads/2026/02/Goat-Yoga-Website-Graphic.jpg
END:VEVENT
END:VCALENDAR